View In:
ArcGIS JavaScript
ArcGIS Online Map Viewer
ArcGIS Earth
Service Description: Goldsboro 1940 Ortho Mosaic
Name: Orthos/Mosaic_1940
Description: Goldsboro 1940 Ortho Mosaic
Single Fused Map Cache: false
Extent:
XMin: -8691774.596874548
YMin: 4201931.176083882
XMax: -8669286.909970393
YMax: 4230751.800714913
Spatial Reference: 102100
(3857)
Initial Extent:
XMin: -8691774.596874548
YMin: 4201931.176083882
XMax: -8669286.909970393
YMax: 4230751.800714913
Spatial Reference: 102100
(3857)
Full Extent:
XMin: -8691774.596874548
YMin: 4201931.176083882
XMax: -8669286.909970393
YMax: 4230751.800714913
Spatial Reference: 102100
(3857)
Pixel Size X: 0.9302042152701021
Pixel Size Y: 0.9339757803820884
Band Count: 1
Pixel Type: U8
RasterFunction Infos: {"rasterFunctionInfos": [{
"name": "None",
"description": "",
"help": ""
}]}
Mensuration Capabilities: Basic
Has Histograms: true
Has Colormap: false
Has Multi Dimensions : false
Rendering Rule:
Min Scale: 0
Max Scale: 0
Copyright Text:
Service Data Type: esriImageServiceDataTypeGeneric
Min Values: 0
Max Values: 255
Mean Values: 149.02761626429248
Standard Deviation Values: 58.755744574620195
Object ID Field:
Fields:
None
Default Mosaic Method: Center
Allowed Mosaic Methods:
SortField:
SortValue: null
Mosaic Operator: First
Default Compression Quality: 75
Default Resampling Method: Bilinear
Max Record Count: null
Max Image Height: 4100
Max Image Width: 15000
Max Download Image Count: null
Max Mosaic Image Count: null
Allow Raster Function: true
Allow Copy: true
Allow Analysis: true
Allow Compute TiePoints: false
Supports Statistics: false
Supports Advanced Queries: false
Use StandardizedQueries: true
Raster Type Infos:
Name: Raster Dataset
Description: Supports all ArcGIS Raster Datasets
Help:
Has Raster Attribute Table: false
Edit Fields Info: null
Ownership Based AccessControl For Rasters: null
Child Resources:
Info
Histograms
Statistics
Key Properties
Legend
Raster Function Infos
Supported Operations:
Export Image
Identify
Measure
Compute Histograms
Compute Statistics Histograms
Get Samples
Compute Class Statistics
Query Boundary
Compute Pixel Location
Compute Angles
Validate
Project