View In:
ArcGIS JavaScript
ArcGIS Online Map Viewer
ArcGIS Earth
Service Description: Goldsboro 1950 Ortho Mosaic
Name: Orthos/Mosaic_1950
Description: Goldsboro 1950 Ortho Mosaic
Single Fused Map Cache: false
Extent:
XMin: 2284325.787751681
YMin: 581207.095223054
XMax: 2315691.2716222596
YMax: 612774.0698411049
Spatial Reference: 103122
(6543)
Initial Extent:
XMin: 2284325.787751681
YMin: 581207.095223054
XMax: 2315691.2716222596
YMax: 612774.0698411049
Spatial Reference: 103122
(6543)
Full Extent:
XMin: 2284325.787751681
YMin: 581207.095223054
XMax: 2315691.2716222596
YMax: 612774.0698411049
Spatial Reference: 103122
(6543)
Pixel Size X: 0.4252428025132996
Pixel Size Y: 0.4238884734530798
Band Count: 1
Pixel Type: U8
RasterFunction Infos: {"rasterFunctionInfos": [{
"name": "None",
"description": "",
"help": ""
}]}
Mensuration Capabilities: Basic
Has Histograms: true
Has Colormap: false
Has Multi Dimensions : false
Rendering Rule:
Min Scale: 0
Max Scale: 0
Copyright Text:
Service Data Type: esriImageServiceDataTypeGeneric
Min Values: 0
Max Values: 255
Mean Values: 172.38914732066868
Standard Deviation Values: 49.0638269131815
Object ID Field:
Fields:
None
Default Mosaic Method: Center
Allowed Mosaic Methods:
SortField:
SortValue: null
Mosaic Operator: First
Default Compression Quality: 75
Default Resampling Method: Bilinear
Max Record Count: null
Max Image Height: 4100
Max Image Width: 15000
Max Download Image Count: null
Max Mosaic Image Count: null
Allow Raster Function: true
Allow Copy: true
Allow Analysis: true
Allow Compute TiePoints: false
Supports Statistics: false
Supports Advanced Queries: false
Use StandardizedQueries: true
Raster Type Infos:
Name: Raster Dataset
Description: Supports all ArcGIS Raster Datasets
Help:
Has Raster Attribute Table: false
Edit Fields Info: null
Ownership Based AccessControl For Rasters: null
Child Resources:
Info
Histograms
Statistics
Key Properties
Legend
Raster Function Infos
Supported Operations:
Export Image
Identify
Measure
Compute Histograms
Compute Statistics Histograms
Get Samples
Compute Class Statistics
Query Boundary
Compute Pixel Location
Compute Angles
Validate
Project