View In:
ArcGIS JavaScript
ArcGIS Online Map Viewer
ArcGIS Earth
Service Description: Goldsboro 2000 Ortho Mosaic
Name: Orthos/Mosaic_2000
Description: Goldsboro 2000 Ortho Mosaic
Single Fused Map Cache: false
Extent:
XMin: 2274999.806572835
YMin: 567500.1414042528
XMax: 2339999.8065728955
YMax: 625000.1414044055
Spatial Reference: 103122
(6543)
Initial Extent:
XMin: 2274999.806572835
YMin: 567500.1414042528
XMax: 2339999.8065728955
YMax: 625000.1414044055
Spatial Reference: 103122
(6543)
Full Extent:
XMin: 2274999.806572835
YMin: 567500.1414042528
XMax: 2339999.8065728955
YMax: 625000.1414044055
Spatial Reference: 103122
(6543)
Pixel Size X: 0.5000000000004656
Pixel Size Y: 0.5000000000013272
Band Count: 3
Pixel Type: U8
RasterFunction Infos: {"rasterFunctionInfos": [{
"name": "None",
"description": "",
"help": ""
}]}
Mensuration Capabilities: Basic
Has Histograms: true
Has Colormap: false
Has Multi Dimensions : false
Rendering Rule:
Min Scale: 0
Max Scale: 0
Copyright Text:
Service Data Type: esriImageServiceDataTypeRGB
Min Values: 0, 0, 0
Max Values: 255, 255, 255
Mean Values: 137.02451009578948, 141.08600294267544, 133.18864597766083
Standard Deviation Values: 60.073515238050874, 57.321955035874794, 55.88678701099994
Object ID Field:
Fields:
None
Default Mosaic Method: Center
Allowed Mosaic Methods:
SortField:
SortValue: null
Mosaic Operator: First
Default Compression Quality: 75
Default Resampling Method: Bilinear
Max Record Count: null
Max Image Height: 4100
Max Image Width: 15000
Max Download Image Count: null
Max Mosaic Image Count: null
Allow Raster Function: true
Allow Copy: true
Allow Analysis: true
Allow Compute TiePoints: false
Supports Statistics: false
Supports Advanced Queries: false
Use StandardizedQueries: true
Raster Type Infos:
Name: Raster Dataset
Description: Supports all ArcGIS Raster Datasets
Help:
Has Raster Attribute Table: false
Edit Fields Info: null
Ownership Based AccessControl For Rasters: null
Child Resources:
Info
Histograms
Statistics
Key Properties
Legend
Raster Function Infos
Supported Operations:
Export Image
Identify
Measure
Compute Histograms
Compute Statistics Histograms
Get Samples
Compute Class Statistics
Query Boundary
Compute Pixel Location
Compute Angles
Validate
Project