View In:
ArcGIS JavaScript
ArcGIS Online Map Viewer
ArcGIS Earth
Service Description: Orthos/Pictometry_2023
Name: Orthos/Pictometry_2023
Description:
Single Fused Map Cache: false
Extent:
XMin: 2268024.0567201823
YMin: 567863.8912283421
XMax: 2341944.0567203388
YMax: 625943.8912286673
Spatial Reference: 103122
(6543)
Initial Extent:
XMin: 2268024.0567201823
YMin: 567863.8912283421
XMax: 2341944.0567203388
YMax: 625943.8912286673
Spatial Reference: 103122
(6543)
Full Extent:
XMin: 2268024.0567201823
YMin: 567863.8912283421
XMax: 2341944.0567203388
YMax: 625943.8912286673
Spatial Reference: 103122
(6543)
Pixel Size X: 0.2500000000005292
Pixel Size Y: 0.25000000000140005
Band Count: 3
Pixel Type: U8
RasterFunction Infos: {"rasterFunctionInfos": [{
"name": "None",
"description": "",
"help": ""
}]}
Mensuration Capabilities: Basic
Has Histograms: true
Has Colormap: false
Has Multi Dimensions : false
Rendering Rule:
Min Scale: 0
Max Scale: 0
Copyright Text:
Service Data Type: esriImageServiceDataTypeProcessed
Min Values: 0, 0, 0
Max Values: 255, 255, 255
Mean Values: 115.51163653923736, 113.39204005975311, 110.06506106235739
Standard Deviation Values: 52.10443700761847, 49.051595106883575, 45.10317115930404
Object ID Field:
Fields:
None
Default Mosaic Method: Center
Allowed Mosaic Methods:
SortField:
SortValue: null
Mosaic Operator: First
Default Compression Quality: 75
Default Resampling Method: Bilinear
Max Record Count: null
Max Image Height: 4100
Max Image Width: 15000
Max Download Image Count: null
Max Mosaic Image Count: null
Allow Raster Function: true
Allow Copy: true
Allow Analysis: true
Allow Compute TiePoints: false
Supports Statistics: false
Supports Advanced Queries: false
Use StandardizedQueries: true
Raster Type Infos:
Name: Raster Dataset
Description: Supports all ArcGIS Raster Datasets
Help:
Has Raster Attribute Table: false
Edit Fields Info: null
Ownership Based AccessControl For Rasters: null
Child Resources:
Info
Histograms
Statistics
Key Properties
Legend
Raster Function Infos
Supported Operations:
Export Image
Identify
Measure
Compute Histograms
Compute Statistics Histograms
Get Samples
Compute Class Statistics
Query Boundary
Compute Pixel Location
Compute Angles
Validate
Project